BEGIN:VCALENDAR
VERSION:2.0
PRODID:-//cicco tinone - ECPv6.2.7//NONSGML v1.0//EN
CALSCALE:GREGORIAN
METHOD:PUBLISH
X-WR-CALNAME:cicco tinone
X-ORIGINAL-URL:https://ciccotinone.com
X-WR-CALDESC:Eventos para cicco tinone
REFRESH-INTERVAL;VALUE=DURATION:PT1H
X-Robots-Tag:noindex
X-PUBLISHED-TTL:PT1H
BEGIN:VTIMEZONE
TZID:Europe/Madrid
BEGIN:DAYLIGHT
TZOFFSETFROM:+0100
TZOFFSETTO:+0200
TZNAME:CEST
DTSTART:20230326T010000
END:DAYLIGHT
BEGIN:STANDARD
TZOFFSETFROM:+0200
TZOFFSETTO:+0100
TZNAME:CET
DTSTART:20231029T010000
END:STANDARD
END:VTIMEZONE
BEGIN:VEVENT
DTSTART;TZID=Europe/Madrid:20231223T180000
DTEND;TZID=Europe/Madrid:20231223T200000
DTSTAMP:20260423T003932
CREATED:20231212T074818Z
LAST-MODIFIED:20231212T074818Z
UID:2210-1703354400-1703361600@ciccotinone.com
SUMMARY:Cicco Tiñone - Indie pop 80s y 90s
DESCRIPTION:Indie pop 80s y 90s\nSala Aguardas Motilla\nCtra. la roda 72\, Motilla de Palancar\nCuenca
URL:https://ciccotinone.com/event/cicco-tinone-indie-pop-80s-y-90s-2/
LOCATION:Valencia
ATTACH;FMTTYPE=image/jpeg:https://ciccotinone.com/wp-content/uploads/2021/06/WhatsApp-Image-2021-06-25-at-08.23.56.jpeg
END:VEVENT
END:VCALENDAR