BEGIN:VCALENDAR
VERSION:2.0
PRODID:-//cicco tinone - ECPv6.2.7//NONSGML v1.0//EN
CALSCALE:GREGORIAN
METHOD:PUBLISH
X-WR-CALNAME:cicco tinone
X-ORIGINAL-URL:https://ciccotinone.com
X-WR-CALDESC:Eventos para cicco tinone
REFRESH-INTERVAL;VALUE=DURATION:PT1H
X-Robots-Tag:noindex
X-PUBLISHED-TTL:PT1H
BEGIN:VTIMEZONE
TZID:Europe/Madrid
BEGIN:DAYLIGHT
TZOFFSETFROM:+0100
TZOFFSETTO:+0200
TZNAME:CEST
DTSTART:20230326T010000
END:DAYLIGHT
BEGIN:STANDARD
TZOFFSETFROM:+0200
TZOFFSETTO:+0100
TZNAME:CET
DTSTART:20231029T010000
END:STANDARD
END:VTIMEZONE
BEGIN:VEVENT
DTSTART;TZID=Europe/Madrid:20231126T180000
DTEND;TZID=Europe/Madrid:20231126T200000
DTSTAMP:20260423T172418
CREATED:20231115T094440Z
LAST-MODIFIED:20231115T100839Z
UID:2150-1701021600-1701028800@ciccotinone.com
SUMMARY:Concierto temático - OK COMPUTER
DESCRIPTION:OK COMPUTER –\nPop-rock británico desde los 90´s en adelante. Radiohead\, Oasis\, Blur\, The Verbe\, Coldplay\, Pulp\, Franz Ferdinand. ..
URL:https://ciccotinone.com/event/concierto-tematico-ok-computer/
LOCATION:LA CASA DE LA MAR\, Av. Vicente Blasco Ibáñez Novelista\, 8\, 46120 Alboraya\, Valencia\, Alboraya\, Valencia\, 46120\, España
CATEGORIES:OK COMPUTER
ATTACH;FMTTYPE=image/jpeg:https://ciccotinone.com/wp-content/uploads/2023/11/286894224_1478922175873851_6321472218186818197_n.jpg
END:VEVENT
END:VCALENDAR