BEGIN:VCALENDAR
VERSION:2.0
PRODID:-//cicco tinone - ECPv6.2.7//NONSGML v1.0//EN
CALSCALE:GREGORIAN
METHOD:PUBLISH
X-WR-CALNAME:cicco tinone
X-ORIGINAL-URL:https://ciccotinone.com
X-WR-CALDESC:Eventos para cicco tinone
REFRESH-INTERVAL;VALUE=DURATION:PT1H
X-Robots-Tag:noindex
X-PUBLISHED-TTL:PT1H
BEGIN:VTIMEZONE
TZID:Europe/Madrid
BEGIN:DAYLIGHT
TZOFFSETFROM:+0100
TZOFFSETTO:+0200
TZNAME:CEST
DTSTART:20210328T010000
END:DAYLIGHT
BEGIN:STANDARD
TZOFFSETFROM:+0200
TZOFFSETTO:+0100
TZNAME:CET
DTSTART:20211031T010000
END:STANDARD
END:VTIMEZONE
BEGIN:VEVENT
DTSTART;VALUE=DATE:20210703
DTEND;VALUE=DATE:20210704
DTSTAMP:20260422T225142
CREATED:20210702T224053Z
LAST-MODIFIED:20210703T002627Z
UID:1335-1625270400-1625356799@ciccotinone.com
SUMMARY:Secret Show
DESCRIPTION:Secret show….\n+Info
URL:https://ciccotinone.com/event/secret-show/
LOCATION:Valencia
ATTACH;FMTTYPE=image/jpeg:https://ciccotinone.com/wp-content/uploads/2021/07/WhatsApp-Image-2021-07-01-at-21.42.03.jpeg
END:VEVENT
BEGIN:VEVENT
DTSTART;TZID=Europe/Madrid:20210704T200000
DTEND;TZID=Europe/Madrid:20210704T213000
DTSTAMP:20260422T225142
CREATED:20210702T215759Z
LAST-MODIFIED:20210703T004350Z
UID:1273-1625428800-1625434200@ciccotinone.com
SUMMARY:La Casa de la Mar
DESCRIPTION:La casa de la Mar\nReservas
URL:https://ciccotinone.com/event/canciones-a-la-mar-codigos-qr-la-casa-de-la-mar/
LOCATION:LA CASA DE LA MAR\, Av. Vicente Blasco Ibáñez Novelista\, 8\, 46120 Alboraya\, Valencia\, Alboraya\, Valencia\, 46120\, España
ATTACH;FMTTYPE=image/jpeg:https://ciccotinone.com/wp-content/uploads/2021/07/WhatsApp-Image-2021-07-01-at-21.42.03.jpeg
END:VEVENT
BEGIN:VEVENT
DTSTART;TZID=Europe/Madrid:20210708T210000
DTEND;TZID=Europe/Madrid:20210708T223000
DTSTAMP:20260422T225142
CREATED:20210702T215459Z
LAST-MODIFIED:20210703T045050Z
UID:1290-1625778000-1625783400@ciccotinone.com
SUMMARY:Nou Racó
DESCRIPTION:Nou Racó\nReservas
URL:https://ciccotinone.com/event/canciones-a-la-mar-codigos-qr-nou-raco-2/
LOCATION:NOU RACÓ\, Carretera del Palmar\, 21\, 46012 Valencia\, Valencia\, Valencia\, 46012\, España
ATTACH;FMTTYPE=image/jpeg:https://ciccotinone.com/wp-content/uploads/2021/07/WhatsApp-Image-2021-07-01-at-21.42.03.jpeg
END:VEVENT
BEGIN:VEVENT
DTSTART;TZID=Europe/Madrid:20210709T210000
DTEND;TZID=Europe/Madrid:20210709T223000
DTSTAMP:20260422T225142
CREATED:20210702T220445Z
LAST-MODIFIED:20210702T224433Z
UID:1299-1625864400-1625869800@ciccotinone.com
SUMMARY:Nou Racó
DESCRIPTION:
URL:https://ciccotinone.com/event/canciones-a-la-mar-codigos-qr-nou-raco/
LOCATION:NOU RACÓ\, Carretera del Palmar\, 21\, 46012 Valencia\, Valencia\, Valencia\, 46012\, España
ATTACH;FMTTYPE=image/jpeg:https://ciccotinone.com/wp-content/uploads/2021/07/WhatsApp-Image-2021-07-01-at-21.42.03.jpeg
END:VEVENT
BEGIN:VEVENT
DTSTART;TZID=Europe/Madrid:20210710T190000
DTEND;TZID=Europe/Madrid:20210710T203000
DTSTAMP:20260422T225142
CREATED:20210702T221242Z
LAST-MODIFIED:20210703T003636Z
UID:1304-1625943600-1625949000@ciccotinone.com
SUMMARY:Casa de Banys L'Avellà
DESCRIPTION:Casa de banys l’Avella\nReservas
URL:https://ciccotinone.com/event/canciones-a-la-mar-codigos-qr-casa-de-banys-lavella/
LOCATION:Casa de Banys L’Avellà\, Carrer 1 l'Avella\, 6\, Cati\, Castellón\, España
ATTACH;FMTTYPE=image/jpeg:https://ciccotinone.com/wp-content/uploads/2021/07/WhatsApp-Image-2021-07-01-at-21.42.03.jpeg
END:VEVENT
BEGIN:VEVENT
DTSTART;TZID=Europe/Madrid:20210711T200000
DTEND;TZID=Europe/Madrid:20210711T213000
DTSTAMP:20260422T225142
CREATED:20210702T221711Z
LAST-MODIFIED:20210703T001703Z
UID:1314-1626033600-1626039000@ciccotinone.com
SUMMARY:La Casa de la Mar
DESCRIPTION:La Casa de la Mar\nReservas/a>
URL:https://ciccotinone.com/event/canciones-a-la-mar-codigos-qr-la-casa-de-la-mar-2/
LOCATION:LA CASA DE LA MAR\, Av. Vicente Blasco Ibáñez Novelista\, 8\, 46120 Alboraya\, Valencia\, Alboraya\, Valencia\, 46120\, España
ATTACH;FMTTYPE=image/jpeg:https://ciccotinone.com/wp-content/uploads/2021/07/WhatsApp-Image-2021-07-01-at-21.42.03.jpeg
END:VEVENT
BEGIN:VEVENT
DTSTART;TZID=Europe/Madrid:20210715T210000
DTEND;TZID=Europe/Madrid:20210715T223000
DTSTAMP:20260422T225142
CREATED:20210702T221857Z
LAST-MODIFIED:20210703T002953Z
UID:1319-1626382800-1626388200@ciccotinone.com
SUMMARY:Nou Racó
DESCRIPTION:Nou Racó\nReservas
URL:https://ciccotinone.com/event/canciones-a-la-mar-codigos-qr-nou-raco-3/
LOCATION:NOU RACÓ\, Carretera del Palmar\, 21\, 46012 Valencia\, Valencia\, Valencia\, 46012\, España
ATTACH;FMTTYPE=image/jpeg:https://ciccotinone.com/wp-content/uploads/2021/07/WhatsApp-Image-2021-07-01-at-21.42.03.jpeg
END:VEVENT
BEGIN:VEVENT
DTSTART;TZID=Europe/Madrid:20210716T210000
DTEND;TZID=Europe/Madrid:20210716T223000
DTSTAMP:20260422T225142
CREATED:20210702T221935Z
LAST-MODIFIED:20210703T003046Z
UID:1324-1626469200-1626474600@ciccotinone.com
SUMMARY:Nou Racó
DESCRIPTION:Nou Racó\nReservas
URL:https://ciccotinone.com/event/canciones-a-la-mar-codigos-qr-nou-raco-4/
LOCATION:NOU RACÓ\, Carretera del Palmar\, 21\, 46012 Valencia\, Valencia\, Valencia\, 46012\, España
ATTACH;FMTTYPE=image/jpeg:https://ciccotinone.com/wp-content/uploads/2021/07/WhatsApp-Image-2021-07-01-at-21.42.03.jpeg
END:VEVENT
BEGIN:VEVENT
DTSTART;TZID=Europe/Madrid:20210717T080000
DTEND;TZID=Europe/Madrid:20210717T170000
DTSTAMP:20260422T225142
CREATED:20210703T002116Z
LAST-MODIFIED:20210703T044757Z
UID:1408-1626508800-1626541200@ciccotinone.com
SUMMARY:Secret show
DESCRIPTION:Secret show\n+info
URL:https://ciccotinone.com/event/secret-show-2/
LOCATION:Valencia
ATTACH;FMTTYPE=image/jpeg:https://ciccotinone.com/wp-content/uploads/2021/07/WhatsApp-Image-2021-07-01-at-21.42.03.jpeg
END:VEVENT
BEGIN:VEVENT
DTSTART;TZID=Europe/Madrid:20210718T170000
DTEND;TZID=Europe/Madrid:20210718T183000
DTSTAMP:20260422T225142
CREATED:20210702T235054Z
LAST-MODIFIED:20210703T045235Z
UID:1393-1626627600-1626633000@ciccotinone.com
SUMMARY:Terraza el Mayo
DESCRIPTION:Terraza el Mayo\nReservas
URL:https://ciccotinone.com/event/terraza-el-mayo/
LOCATION:Terraza el Mayo\, Avda del Dosel 52\, Cullera\, Valencia\, 46408\, España
ATTACH;FMTTYPE=image/jpeg:https://ciccotinone.com/wp-content/uploads/2021/07/WhatsApp-Image-2021-07-01-at-21.42.03.jpeg
END:VEVENT
BEGIN:VEVENT
DTSTART;TZID=Europe/Madrid:20210722T210000
DTEND;TZID=Europe/Madrid:20210722T223000
DTSTAMP:20260422T225142
CREATED:20210703T001159Z
LAST-MODIFIED:20210703T045648Z
UID:1397-1626987600-1626993000@ciccotinone.com
SUMMARY:Nou Racó
DESCRIPTION:Nou Racó\nReservas
URL:https://ciccotinone.com/event/nou-raco/
LOCATION:NOU RACÓ\, Carretera del Palmar\, 21\, 46012 Valencia\, Valencia\, Valencia\, 46012\, España
ATTACH;FMTTYPE=image/jpeg:https://ciccotinone.com/wp-content/uploads/2021/07/WhatsApp-Image-2021-07-01-at-21.42.03.jpeg
END:VEVENT
BEGIN:VEVENT
DTSTART;TZID=Europe/Madrid:20210723T210000
DTEND;TZID=Europe/Madrid:20210723T223000
DTSTAMP:20260422T225142
CREATED:20210703T050634Z
LAST-MODIFIED:20210703T050634Z
UID:1482-1627074000-1627079400@ciccotinone.com
SUMMARY:Nou Racó
DESCRIPTION:Nou Racó\nReservas
URL:https://ciccotinone.com/event/nou-raco-5/
LOCATION:NOU RACÓ\, Carretera del Palmar\, 21\, 46012 Valencia\, Valencia\, Valencia\, 46012\, España
ATTACH;FMTTYPE=image/jpeg:https://ciccotinone.com/wp-content/uploads/2021/07/WhatsApp-Image-2021-07-01-at-21.42.03.jpeg
END:VEVENT
BEGIN:VEVENT
DTSTART;TZID=Europe/Madrid:20210724T230000
DTEND;TZID=Europe/Madrid:20210724T230000
DTSTAMP:20260422T225142
CREATED:20210703T050123Z
LAST-MODIFIED:20210703T050123Z
UID:1474-1627167600-1627167600@ciccotinone.com
SUMMARY:Bar Piscina Municipal
DESCRIPTION:Bar Piscina Municipal\nReservas
URL:https://ciccotinone.com/event/bar-piscina-municipal/
LOCATION:Piscina Municipal\, Venta del Moro\, Valencia\, España
ATTACH;FMTTYPE=image/jpeg:https://ciccotinone.com/wp-content/uploads/2021/07/WhatsApp-Image-2021-07-01-at-21.42.03.jpeg
END:VEVENT
BEGIN:VEVENT
DTSTART;TZID=Europe/Madrid:20210725T080000
DTEND;TZID=Europe/Madrid:20210725T170000
DTSTAMP:20260422T225142
CREATED:20210703T001815Z
LAST-MODIFIED:20210703T001815Z
UID:1404-1627200000-1627232400@ciccotinone.com
SUMMARY:La Casa de la Mar
DESCRIPTION:La Casa de la Mar\nReservas/a>
URL:https://ciccotinone.com/event/la-casa-de-la-mar/
LOCATION:LA CASA DE LA MAR\, Av. Vicente Blasco Ibáñez Novelista\, 8\, 46120 Alboraya\, Valencia\, Alboraya\, Valencia\, 46120\, España
ATTACH;FMTTYPE=image/jpeg:https://ciccotinone.com/wp-content/uploads/2021/07/WhatsApp-Image-2021-07-01-at-21.42.03.jpeg
END:VEVENT
BEGIN:VEVENT
DTSTART;TZID=Europe/Madrid:20210729T210000
DTEND;TZID=Europe/Madrid:20210729T223000
DTSTAMP:20260422T225142
CREATED:20210703T050531Z
LAST-MODIFIED:20210703T050531Z
UID:1480-1627592400-1627597800@ciccotinone.com
SUMMARY:Nou Racó
DESCRIPTION:Nou Racó\nReservas
URL:https://ciccotinone.com/event/nou-raco-4/
LOCATION:NOU RACÓ\, Carretera del Palmar\, 21\, 46012 Valencia\, Valencia\, Valencia\, 46012\, España
ATTACH;FMTTYPE=image/jpeg:https://ciccotinone.com/wp-content/uploads/2021/07/WhatsApp-Image-2021-07-01-at-21.42.03.jpeg
END:VEVENT
BEGIN:VEVENT
DTSTART;TZID=Europe/Madrid:20210730T210000
DTEND;TZID=Europe/Madrid:20210730T223000
DTSTAMP:20260422T225142
CREATED:20210703T044654Z
LAST-MODIFIED:20210703T050350Z
UID:1466-1627678800-1627684200@ciccotinone.com
SUMMARY:Nou Racó
DESCRIPTION:Nou Racó\nReservas
URL:https://ciccotinone.com/event/nou-raco-2/
LOCATION:NOU RACÓ\, Carretera del Palmar\, 21\, 46012 Valencia\, Valencia\, Valencia\, 46012\, España
ATTACH;FMTTYPE=image/jpeg:https://ciccotinone.com/wp-content/uploads/2021/07/WhatsApp-Image-2021-07-01-at-21.42.03.jpeg
END:VEVENT
BEGIN:VEVENT
DTSTART;TZID=Europe/Madrid:20210731T223000
DTEND;TZID=Europe/Madrid:20210731T233000
DTSTAMP:20260422T225142
CREATED:20210703T045441Z
LAST-MODIFIED:20210703T050452Z
UID:1470-1627770600-1627774200@ciccotinone.com
SUMMARY:Terraza el mayo
DESCRIPTION:Terraza el Mayo\nReservas
URL:https://ciccotinone.com/event/nou-raco-3/
LOCATION:Terraza el Mayo\, Avda del Dosel 52\, Cullera\, Valencia\, 46408\, España
ATTACH;FMTTYPE=image/jpeg:https://ciccotinone.com/wp-content/uploads/2021/07/WhatsApp-Image-2021-07-01-at-21.42.03.jpeg
END:VEVENT
END:VCALENDAR