BEGIN:VCALENDAR
VERSION:2.0
PRODID:-//cicco tinone - ECPv6.2.7//NONSGML v1.0//EN
CALSCALE:GREGORIAN
METHOD:PUBLISH
X-WR-CALNAME:cicco tinone
X-ORIGINAL-URL:https://ciccotinone.com
X-WR-CALDESC:Eventos para cicco tinone
REFRESH-INTERVAL;VALUE=DURATION:PT1H
X-Robots-Tag:noindex
X-PUBLISHED-TTL:PT1H
BEGIN:VTIMEZONE
TZID:Europe/Madrid
BEGIN:DAYLIGHT
TZOFFSETFROM:+0100
TZOFFSETTO:+0200
TZNAME:CEST
DTSTART:20210328T010000
END:DAYLIGHT
BEGIN:STANDARD
TZOFFSETFROM:+0200
TZOFFSETTO:+0100
TZNAME:CET
DTSTART:20211031T010000
END:STANDARD
END:VTIMEZONE
BEGIN:VEVENT
DTSTART;TZID=Europe/Madrid:20210801T200000
DTEND;TZID=Europe/Madrid:20210801T213000
DTSTAMP:20260422T211800
CREATED:20210703T002027Z
LAST-MODIFIED:20210729T202424Z
UID:1406-1627848000-1627853400@ciccotinone.com
SUMMARY:La Casa de la Mar
DESCRIPTION:La Casa de la Mar\nReservas
URL:https://ciccotinone.com/event/la-casa-de-la-mar-2/
LOCATION:LA CASA DE LA MAR\, Av. Vicente Blasco Ibáñez Novelista\, 8\, 46120 Alboraya\, Valencia\, Alboraya\, Valencia\, 46120\, España
ATTACH;FMTTYPE=image/jpeg:https://ciccotinone.com/wp-content/uploads/2021/07/WhatsApp-Image-2021-07-01-at-21.42.03.jpeg
END:VEVENT
BEGIN:VEVENT
DTSTART;TZID=Europe/Madrid:20210804T220000
DTEND;TZID=Europe/Madrid:20210804T220000
DTSTAMP:20260422T211800
CREATED:20210729T201719Z
LAST-MODIFIED:20210729T201719Z
UID:1706-1628114400-1628114400@ciccotinone.com
SUMMARY:River Club
DESCRIPTION:
URL:https://ciccotinone.com/event/river-club/
LOCATION:RIVER CLUB\, Carr. de Tales\, 72\, 12448 Montanejos\, Castellón\, Castellón\, Montanejos\, 12448\, España
ATTACH;FMTTYPE=image/jpeg:https://ciccotinone.com/wp-content/uploads/2021/07/WhatsApp-Image-2021-07-01-at-21.42.03.jpeg
END:VEVENT
BEGIN:VEVENT
DTSTART;TZID=Europe/Madrid:20210805T210000
DTEND;TZID=Europe/Madrid:20210805T210000
DTSTAMP:20260422T211800
CREATED:20210729T202211Z
LAST-MODIFIED:20210729T202211Z
UID:1709-1628197200-1628197200@ciccotinone.com
SUMMARY:Nou Racó
DESCRIPTION:
URL:https://ciccotinone.com/event/nou-raco-6/
LOCATION:NOU RACÓ\, Carretera del Palmar\, 21\, 46012 Valencia\, Valencia\, Valencia\, 46012\, España
ATTACH;FMTTYPE=image/jpeg:https://ciccotinone.com/wp-content/uploads/2021/07/WhatsApp-Image-2021-07-01-at-21.42.03.jpeg
END:VEVENT
BEGIN:VEVENT
DTSTART;TZID=Europe/Madrid:20210806T173000
DTEND;TZID=Europe/Madrid:20210806T173000
DTSTAMP:20260422T211800
CREATED:20210729T203303Z
LAST-MODIFIED:20210729T203303Z
UID:1713-1628271000-1628271000@ciccotinone.com
SUMMARY:Calima Food & Beach Music
DESCRIPTION:
URL:https://ciccotinone.com/event/calima-food-beach-music/
LOCATION:Calima Food & Beach Music\, Plaça Numero 22\, 59\, Cullera\, Valencia\, España
ATTACH;FMTTYPE=image/jpeg:https://ciccotinone.com/wp-content/uploads/2021/07/WhatsApp-Image-2021-07-01-at-21.42.03.jpeg
END:VEVENT
BEGIN:VEVENT
DTSTART;TZID=Europe/Madrid:20210806T210000
DTEND;TZID=Europe/Madrid:20210806T210000
DTSTAMP:20260422T211800
CREATED:20210729T205450Z
LAST-MODIFIED:20210729T205450Z
UID:1716-1628283600-1628283600@ciccotinone.com
SUMMARY:Nou Racó
DESCRIPTION:
URL:https://ciccotinone.com/event/nou-raco-7/
LOCATION:NOU RACÓ\, Carretera del Palmar\, 21\, 46012 Valencia\, Valencia\, Valencia\, 46012\, España
END:VEVENT
BEGIN:VEVENT
DTSTART;TZID=Europe/Madrid:20210807T210000
DTEND;TZID=Europe/Madrid:20210807T210000
DTSTAMP:20260422T211800
CREATED:20210729T205916Z
LAST-MODIFIED:20210729T205916Z
UID:1719-1628370000-1628370000@ciccotinone.com
SUMMARY:Casa de Banys L'Avellà
DESCRIPTION:
URL:https://ciccotinone.com/event/casa-de-banys-lavella/
LOCATION:Casa de Banys L’Avellà\, Carrer 1 l'Avella\, 6\, Cati\, Castellón\, 12513\, España
ATTACH;FMTTYPE=image/jpeg:https://ciccotinone.com/wp-content/uploads/2021/07/WhatsApp-Image-2021-07-01-at-21.42.03.jpeg
END:VEVENT
BEGIN:VEVENT
DTSTART;TZID=Europe/Madrid:20210808T200000
DTEND;TZID=Europe/Madrid:20210808T200000
DTSTAMP:20260422T211800
CREATED:20210729T211544Z
LAST-MODIFIED:20210729T211544Z
UID:1728-1628452800-1628452800@ciccotinone.com
SUMMARY:La Casa de la Mar
DESCRIPTION:
URL:https://ciccotinone.com/event/la-casa-de-la-mar-3/
LOCATION:LA CASA DE LA MAR\, Av. Vicente Blasco Ibáñez Novelista\, 8\, 46120 Alboraya\, Valencia\, Alboraya\, Valencia\, 46120\, España
ATTACH;FMTTYPE=image/jpeg:https://ciccotinone.com/wp-content/uploads/2021/07/WhatsApp-Image-2021-07-01-at-21.42.03.jpeg
END:VEVENT
BEGIN:VEVENT
DTSTART;TZID=Europe/Madrid:20210811T220000
DTEND;TZID=Europe/Madrid:20210811T220000
DTSTAMP:20260422T211800
CREATED:20210729T211819Z
LAST-MODIFIED:20210729T211839Z
UID:1730-1628719200-1628719200@ciccotinone.com
SUMMARY:River Club
DESCRIPTION:
URL:https://ciccotinone.com/event/river-club-2/
LOCATION:RIVER CLUB\, Carr. de Tales\, 72\, 12448 Montanejos\, Castellón\, Castellón\, Montanejos\, 12448\, España
ATTACH;FMTTYPE=image/jpeg:https://ciccotinone.com/wp-content/uploads/2021/07/WhatsApp-Image-2021-07-01-at-21.42.03.jpeg
END:VEVENT
BEGIN:VEVENT
DTSTART;TZID=Europe/Madrid:20210812T210000
DTEND;TZID=Europe/Madrid:20210812T210000
DTSTAMP:20260422T211800
CREATED:20210729T212031Z
LAST-MODIFIED:20210729T212031Z
UID:1732-1628802000-1628802000@ciccotinone.com
SUMMARY:Nou Racó
DESCRIPTION:
URL:https://ciccotinone.com/event/nou-raco-8/
LOCATION:NOU RACÓ\, Carretera del Palmar\, 21\, 46012 Valencia\, Valencia\, Valencia\, 46012\, España
ATTACH;FMTTYPE=image/jpeg:https://ciccotinone.com/wp-content/uploads/2021/07/WhatsApp-Image-2021-07-01-at-21.42.03.jpeg
END:VEVENT
BEGIN:VEVENT
DTSTART;TZID=Europe/Madrid:20210813T173000
DTEND;TZID=Europe/Madrid:20210813T173000
DTSTAMP:20260422T211800
CREATED:20210729T212135Z
LAST-MODIFIED:20210729T212135Z
UID:1734-1628875800-1628875800@ciccotinone.com
SUMMARY:Calima Food & Beach Music
DESCRIPTION:
URL:https://ciccotinone.com/event/calima-food-beach-music-2/
LOCATION:Calima Food & Beach Music\, Plaça Numero 22\, 59\, Cullera\, Valencia\, España
ATTACH;FMTTYPE=image/jpeg:https://ciccotinone.com/wp-content/uploads/2021/07/WhatsApp-Image-2021-07-01-at-21.42.03.jpeg
END:VEVENT
BEGIN:VEVENT
DTSTART;TZID=Europe/Madrid:20210813T210000
DTEND;TZID=Europe/Madrid:20210813T210000
DTSTAMP:20260422T211800
CREATED:20210729T212252Z
LAST-MODIFIED:20210729T212252Z
UID:1736-1628888400-1628888400@ciccotinone.com
SUMMARY:Nou Racó
DESCRIPTION:
URL:https://ciccotinone.com/event/nou-raco-9/
LOCATION:NOU RACÓ\, Carretera del Palmar\, 21\, 46012 Valencia\, Valencia\, Valencia\, 46012\, España
ATTACH;FMTTYPE=image/jpeg:https://ciccotinone.com/wp-content/uploads/2021/07/WhatsApp-Image-2021-07-01-at-21.42.03.jpeg
END:VEVENT
BEGIN:VEVENT
DTSTART;TZID=Europe/Madrid:20210814T220000
DTEND;TZID=Europe/Madrid:20210814T220000
DTSTAMP:20260422T211800
CREATED:20210729T212414Z
LAST-MODIFIED:20210729T212414Z
UID:1738-1628978400-1628978400@ciccotinone.com
SUMMARY:Terraza el Mayo
DESCRIPTION:
URL:https://ciccotinone.com/event/terraza-el-mayo-2/
LOCATION:Terraza el Mayo\, Avda del Dosel 52\, Cullera\, Valencia\, 46408\, España
ATTACH;FMTTYPE=image/jpeg:https://ciccotinone.com/wp-content/uploads/2021/07/WhatsApp-Image-2021-07-01-at-21.42.03.jpeg
END:VEVENT
BEGIN:VEVENT
DTSTART;TZID=Europe/Madrid:20210815T200000
DTEND;TZID=Europe/Madrid:20210815T200000
DTSTAMP:20260422T211800
CREATED:20210729T212734Z
LAST-MODIFIED:20210729T212734Z
UID:1742-1629057600-1629057600@ciccotinone.com
SUMMARY:La Casa de la Mar
DESCRIPTION:
URL:https://ciccotinone.com/event/la-casa-de-la-mar-4/
LOCATION:LA CASA DE LA MAR\, Av. Vicente Blasco Ibáñez Novelista\, 8\, 46120 Alboraya\, Valencia\, Alboraya\, Valencia\, 46120\, España
ATTACH;FMTTYPE=image/jpeg:https://ciccotinone.com/wp-content/uploads/2021/07/WhatsApp-Image-2021-07-01-at-21.42.03.jpeg
END:VEVENT
BEGIN:VEVENT
DTSTART;TZID=Europe/Madrid:20210818T220000
DTEND;TZID=Europe/Madrid:20210818T220000
DTSTAMP:20260422T211800
CREATED:20210729T212906Z
LAST-MODIFIED:20210729T212906Z
UID:1744-1629324000-1629324000@ciccotinone.com
SUMMARY:River Club
DESCRIPTION:
URL:https://ciccotinone.com/event/river-club-3/
LOCATION:RIVER CLUB\, Carr. de Tales\, 72\, 12448 Montanejos\, Castellón\, Castellón\, Montanejos\, 12448\, España
ATTACH;FMTTYPE=image/jpeg:https://ciccotinone.com/wp-content/uploads/2021/07/WhatsApp-Image-2021-07-01-at-21.42.03.jpeg
END:VEVENT
BEGIN:VEVENT
DTSTART;TZID=Europe/Madrid:20210819T210000
DTEND;TZID=Europe/Madrid:20210819T210000
DTSTAMP:20260422T211800
CREATED:20210729T213151Z
LAST-MODIFIED:20210729T213151Z
UID:1747-1629406800-1629406800@ciccotinone.com
SUMMARY:Nou Racó
DESCRIPTION:
URL:https://ciccotinone.com/event/nou-raco-10/
LOCATION:NOU RACÓ\, Carretera del Palmar\, 21\, 46012 Valencia\, Valencia\, Valencia\, 46012\, España
ATTACH;FMTTYPE=image/jpeg:https://ciccotinone.com/wp-content/uploads/2021/07/WhatsApp-Image-2021-07-01-at-21.42.03.jpeg
END:VEVENT
BEGIN:VEVENT
DTSTART;TZID=Europe/Madrid:20210820T173000
DTEND;TZID=Europe/Madrid:20210820T173000
DTSTAMP:20260422T211800
CREATED:20210729T213349Z
LAST-MODIFIED:20210729T213349Z
UID:1749-1629480600-1629480600@ciccotinone.com
SUMMARY:Calima Food & Beach Music
DESCRIPTION:
URL:https://ciccotinone.com/event/calima-food-beach-music-3/
LOCATION:Calima Food & Beach Music\, Plaça Numero 22\, 59\, Cullera\, Valencia\, España
ATTACH;FMTTYPE=image/jpeg:https://ciccotinone.com/wp-content/uploads/2021/07/WhatsApp-Image-2021-07-01-at-21.42.03.jpeg
END:VEVENT
BEGIN:VEVENT
DTSTART;TZID=Europe/Madrid:20210820T210000
DTEND;TZID=Europe/Madrid:20210820T210000
DTSTAMP:20260422T211800
CREATED:20210729T213431Z
LAST-MODIFIED:20210729T213454Z
UID:1751-1629493200-1629493200@ciccotinone.com
SUMMARY:Nou Racó
DESCRIPTION:
URL:https://ciccotinone.com/event/nou-raco-11/
LOCATION:NOU RACÓ\, Carretera del Palmar\, 21\, 46012 Valencia\, Valencia\, Valencia\, 46012\, España
ATTACH;FMTTYPE=image/jpeg:https://ciccotinone.com/wp-content/uploads/2021/07/WhatsApp-Image-2021-07-01-at-21.42.03.jpeg
END:VEVENT
BEGIN:VEVENT
DTSTART;TZID=Europe/Madrid:20210821T210000
DTEND;TZID=Europe/Madrid:20210821T210000
DTSTAMP:20260422T211800
CREATED:20210729T213847Z
LAST-MODIFIED:20210729T213847Z
UID:1753-1629579600-1629579600@ciccotinone.com
SUMMARY:Finca el Portón
DESCRIPTION:
URL:https://ciccotinone.com/event/finca-el-porton/
LOCATION:Finca el Portón\, Partida de Calabarra\, Nº 1100\, Turis\, Valencia\, 46389\, España
ATTACH;FMTTYPE=image/jpeg:https://ciccotinone.com/wp-content/uploads/2021/07/WhatsApp-Image-2021-07-01-at-21.42.03.jpeg
END:VEVENT
BEGIN:VEVENT
DTSTART;TZID=Europe/Madrid:20210822T200000
DTEND;TZID=Europe/Madrid:20210822T200000
DTSTAMP:20260422T211800
CREATED:20210729T214151Z
LAST-MODIFIED:20210729T214151Z
UID:1758-1629662400-1629662400@ciccotinone.com
SUMMARY:La Casa de la Mar
DESCRIPTION:
URL:https://ciccotinone.com/event/la-casa-de-la-mar-5/
LOCATION:LA CASA DE LA MAR\, Av. Vicente Blasco Ibáñez Novelista\, 8\, 46120 Alboraya\, Valencia\, Alboraya\, Valencia\, 46120\, España
END:VEVENT
BEGIN:VEVENT
DTSTART;TZID=Europe/Madrid:20210825T220000
DTEND;TZID=Europe/Madrid:20210825T220000
DTSTAMP:20260422T211800
CREATED:20210729T214330Z
LAST-MODIFIED:20210729T214330Z
UID:1760-1629928800-1629928800@ciccotinone.com
SUMMARY:River Club
DESCRIPTION:
URL:https://ciccotinone.com/event/river-club-4/
LOCATION:RIVER CLUB\, Carr. de Tales\, 72\, 12448 Montanejos\, Castellón\, Castellón\, Montanejos\, 12448\, España
ATTACH;FMTTYPE=image/jpeg:https://ciccotinone.com/wp-content/uploads/2021/07/WhatsApp-Image-2021-07-01-at-21.42.03.jpeg
END:VEVENT
BEGIN:VEVENT
DTSTART;TZID=Europe/Madrid:20210826T210000
DTEND;TZID=Europe/Madrid:20210826T210000
DTSTAMP:20260422T211800
CREATED:20210729T232111Z
LAST-MODIFIED:20210729T232111Z
UID:1762-1630011600-1630011600@ciccotinone.com
SUMMARY:Nou Racó
DESCRIPTION:
URL:https://ciccotinone.com/event/nou-raco-12/
LOCATION:NOU RACÓ\, Carretera del Palmar\, 21\, 46012 Valencia\, Valencia\, Valencia\, 46012\, España
ATTACH;FMTTYPE=image/jpeg:https://ciccotinone.com/wp-content/uploads/2021/07/WhatsApp-Image-2021-07-01-at-21.42.03.jpeg
END:VEVENT
BEGIN:VEVENT
DTSTART;TZID=Europe/Madrid:20210827T173000
DTEND;TZID=Europe/Madrid:20210827T173000
DTSTAMP:20260422T211800
CREATED:20210729T232228Z
LAST-MODIFIED:20210729T232228Z
UID:1764-1630085400-1630085400@ciccotinone.com
SUMMARY:Calima Food & Beach Music
DESCRIPTION:
URL:https://ciccotinone.com/event/calima-food-beach-music-4/
LOCATION:Calima Food & Beach Music\, Plaça Numero 22\, 59\, Cullera\, Valencia\, España
ATTACH;FMTTYPE=image/jpeg:https://ciccotinone.com/wp-content/uploads/2021/07/WhatsApp-Image-2021-07-01-at-21.42.03.jpeg
END:VEVENT
BEGIN:VEVENT
DTSTART;TZID=Europe/Madrid:20210827T210000
DTEND;TZID=Europe/Madrid:20210827T210000
DTSTAMP:20260422T211800
CREATED:20210729T232311Z
LAST-MODIFIED:20210729T234501Z
UID:1766-1630098000-1630098000@ciccotinone.com
SUMMARY:Nou Racó
DESCRIPTION:
URL:https://ciccotinone.com/event/nou-raco-13/
LOCATION:NOU RACÓ\, Carretera del Palmar\, 21\, 46012 Valencia\, Valencia\, Valencia\, 46012\, España
ATTACH;FMTTYPE=image/jpeg:https://ciccotinone.com/wp-content/uploads/2021/07/WhatsApp-Image-2021-07-01-at-21.42.03.jpeg
END:VEVENT
BEGIN:VEVENT
DTSTART;TZID=Europe/Madrid:20210828T210000
DTEND;TZID=Europe/Madrid:20210828T210000
DTSTAMP:20260422T211800
CREATED:20210729T232423Z
LAST-MODIFIED:20210729T232423Z
UID:1768-1630184400-1630184400@ciccotinone.com
SUMMARY:Finca el Portón
DESCRIPTION:
URL:https://ciccotinone.com/event/finca-el-porton-2/
LOCATION:Finca el Portón\, Partida de Calabarra\, Nº 1100\, Turis\, Valencia\, 46389\, España
ATTACH;FMTTYPE=image/jpeg:https://ciccotinone.com/wp-content/uploads/2021/07/WhatsApp-Image-2021-07-01-at-21.42.03.jpeg
END:VEVENT
BEGIN:VEVENT
DTSTART;TZID=Europe/Madrid:20210829T170000
DTEND;TZID=Europe/Madrid:20210829T170000
DTSTAMP:20260422T211800
CREATED:20210729T232555Z
LAST-MODIFIED:20210729T232555Z
UID:1770-1630256400-1630256400@ciccotinone.com
SUMMARY:Terraza el Mayo
DESCRIPTION:
URL:https://ciccotinone.com/event/terraza-el-mayo-3/
LOCATION:Terraza el Mayo\, Avda del Dosel 52\, Cullera\, Valencia\, 46408\, España
ATTACH;FMTTYPE=image/jpeg:https://ciccotinone.com/wp-content/uploads/2021/07/WhatsApp-Image-2021-07-01-at-21.42.03.jpeg
END:VEVENT
BEGIN:VEVENT
DTSTART;TZID=Europe/Madrid:20210829T200000
DTEND;TZID=Europe/Madrid:20210829T200000
DTSTAMP:20260422T211800
CREATED:20210729T233754Z
LAST-MODIFIED:20210729T233754Z
UID:1772-1630267200-1630267200@ciccotinone.com
SUMMARY:Mosquito Beach
DESCRIPTION:
URL:https://ciccotinone.com/event/mosquito-beach/
LOCATION:Mosquito Beach\, Playa de Cullera\, Cullera\, Valencia\, España
ATTACH;FMTTYPE=image/jpeg:https://ciccotinone.com/wp-content/uploads/2021/07/WhatsApp-Image-2021-07-01-at-21.42.03.jpeg
END:VEVENT
END:VCALENDAR