BEGIN:VCALENDAR
VERSION:2.0
PRODID:-//cicco tinone - ECPv6.2.7//NONSGML v1.0//EN
CALSCALE:GREGORIAN
METHOD:PUBLISH
X-WR-CALNAME:cicco tinone
X-ORIGINAL-URL:https://ciccotinone.com
X-WR-CALDESC:Eventos para cicco tinone
REFRESH-INTERVAL;VALUE=DURATION:PT1H
X-Robots-Tag:noindex
X-PUBLISHED-TTL:PT1H
BEGIN:VTIMEZONE
TZID:Europe/Madrid
BEGIN:DAYLIGHT
TZOFFSETFROM:+0100
TZOFFSETTO:+0200
TZNAME:CEST
DTSTART:20230326T010000
END:DAYLIGHT
BEGIN:STANDARD
TZOFFSETFROM:+0200
TZOFFSETTO:+0100
TZNAME:CET
DTSTART:20231029T010000
END:STANDARD
END:VTIMEZONE
BEGIN:VEVENT
DTSTART;TZID=Europe/Madrid:20231009T190000
DTEND;TZID=Europe/Madrid:20231009T203000
DTSTAMP:20260422T192422
CREATED:20231007T084801Z
LAST-MODIFIED:20231007T084801Z
UID:2090-1696878000-1696883400@ciccotinone.com
SUMMARY:KARA Ó KÉ
DESCRIPTION:CICCO TIÑONE en La Casa de la Mar
URL:https://ciccotinone.com/event/kara-o-ke/
LOCATION:LA CASA DE LA MAR\, Av. Vicente Blasco Ibáñez Novelista\, 8\, 46120 Alboraya\, Valencia\, Alboraya\, Valencia\, 46120\, España
END:VEVENT
BEGIN:VEVENT
DTSTART;TZID=Europe/Madrid:20231012T200000
DTEND;TZID=Europe/Madrid:20231012T220000
DTSTAMP:20260422T192422
CREATED:20231007T085215Z
LAST-MODIFIED:20231010T100039Z
UID:2093-1697140800-1697148000@ciccotinone.com
SUMMARY:Cicco Tiñone
DESCRIPTION:Cicco Tiñone – Música a la Carta en el HOTEL NH
URL:https://ciccotinone.com/event/2093/
LOCATION:hotel NH\, calle de Colón\, 32\, Valencia\, Valencia\, 46022\, España
END:VEVENT
END:VCALENDAR