BEGIN:VCALENDAR
VERSION:2.0
PRODID:-//cicco tinone - ECPv6.2.7//NONSGML v1.0//EN
CALSCALE:GREGORIAN
METHOD:PUBLISH
X-ORIGINAL-URL:https://ciccotinone.com
X-WR-CALDESC:Eventos para cicco tinone
REFRESH-INTERVAL;VALUE=DURATION:PT1H
X-Robots-Tag:noindex
X-PUBLISHED-TTL:PT1H
BEGIN:VTIMEZONE
TZID:Europe/Madrid
BEGIN:DAYLIGHT
TZOFFSETFROM:+0100
TZOFFSETTO:+0200
TZNAME:CEST
DTSTART:20230326T010000
END:DAYLIGHT
BEGIN:STANDARD
TZOFFSETFROM:+0200
TZOFFSETTO:+0100
TZNAME:CET
DTSTART:20231029T010000
END:STANDARD
END:VTIMEZONE
BEGIN:VEVENT
DTSTART;TZID=Europe/Madrid:20231201T183000
DTEND;TZID=Europe/Madrid:20231201T203000
DTSTAMP:20260422T225258
CREATED:20231128T085623Z
LAST-MODIFIED:20231128T085623Z
UID:2202-1701455400-1701462600@ciccotinone.com
SUMMARY:CICCO TIÑONE - CANCIONES A LA CARTA
DESCRIPTION:En Il Taroncello\nCarrer de Jaume d’Olid\, 36\, Alzira
URL:https://ciccotinone.com/event/cicco-tinone-canciones-a-la-carta-3/
LOCATION:Valencia
END:VEVENT
BEGIN:VEVENT
DTSTART;TZID=Europe/Madrid:20231202T190000
DTEND;TZID=Europe/Madrid:20231202T210000
DTSTAMP:20260422T225258
CREATED:20231115T104204Z
LAST-MODIFIED:20231115T141530Z
UID:2185-1701543600-1701550800@ciccotinone.com
SUMMARY:CICCO TIÑONE - CANCIONES A LA CARTA
DESCRIPTION:Nuestra particularidad es que realizamos un show de música a la carta. A través de un código QR puedes elegir las canciones de nuestra web\, aquellas que te gustaría escuchar en directo y esperar a que suene para ti\, dedicársela a quien desees y pasar un momento agradable. \nEn nuestro repertorio encontrarás alrededor de 350 canciones. Contamos con un amplio abanico de versiones tanto en español como en inglés o italiano. Géneros como pop\, rock\, indie\, soul y otros estilos\, desde lo más oldie hasta lo más actual.
URL:https://ciccotinone.com/event/cicco-tinone-canciones-a-la-carta/
LOCATION:Valencia
CATEGORIES:CANCIONES A LA CARTA
ATTACH;FMTTYPE=image/jpeg:https://ciccotinone.com/wp-content/uploads/2023/11/logo-la-Marimandona-Beach.jpg
END:VEVENT
BEGIN:VEVENT
DTSTART;TZID=Europe/Madrid:20231203T130000
DTEND;TZID=Europe/Madrid:20231203T150000
DTSTAMP:20260422T225258
CREATED:20231115T102743Z
LAST-MODIFIED:20231115T141729Z
UID:2166-1701608400-1701615600@ciccotinone.com
SUMMARY:Concierto Temático - ENJOY THE SILENCE
DESCRIPTION:Lo bueno nunca pasa de moda. Depeche Mode\, U2\, The Cure\, The Smiths\, Bowie\, Echo &The Bunnymen\, The Police…
URL:https://ciccotinone.com/event/concierto-tematico-enjoy-the-silence/
LOCATION:LA CASA DE LA MAR\, Av. Vicente Blasco Ibáñez Novelista\, 8\, 46120 Alboraya\, Valencia\, Alboraya\, Valencia\, 46120\, España
CATEGORIES:ENJOY THE SILENCE
ATTACH;FMTTYPE=image/jpeg:https://ciccotinone.com/wp-content/uploads/2023/11/286894224_1478922175873851_6321472218186818197_n.jpg
END:VEVENT
BEGIN:VEVENT
DTSTART;TZID=Europe/Madrid:20231208T190000
DTEND;TZID=Europe/Madrid:20231208T210000
DTSTAMP:20260422T225258
CREATED:20231115T104411Z
LAST-MODIFIED:20231115T141847Z
UID:2187-1702062000-1702069200@ciccotinone.com
SUMMARY:CICCO TIÑONE - CANCIONES A LA CARTA
DESCRIPTION:Nuestra particularidad es que realizamos un show de música a la carta. A través de un código QR puedes elegir las canciones de nuestra web\, aquellas que te gustaría escuchar en directo y esperar a que suene para ti\, dedicársela a quien desees y pasar un momento agradable. \nEn nuestro repertorio encontrarás alrededor de 350 canciones. Contamos con un amplio abanico de versiones tanto en español como en inglés o italiano. Géneros como pop\, rock\, indie\, soul y otros estilos\, desde lo más oldie hasta lo más actual.
URL:https://ciccotinone.com/event/cicco-tinone-canciones-a-la-carta-2/
LOCATION:La Marimandona BEACH
CATEGORIES:CANCIONES A LA CARTA
ATTACH;FMTTYPE=image/jpeg:https://ciccotinone.com/wp-content/uploads/2023/11/logo-la-Marimandona-Beach.jpg
END:VEVENT
BEGIN:VEVENT
DTSTART;TZID=Europe/Madrid:20231209T190000
DTEND;TZID=Europe/Madrid:20231209T210000
DTSTAMP:20260422T225258
CREATED:20231115T103415Z
LAST-MODIFIED:20231115T142051Z
UID:2179-1702148400-1702155600@ciccotinone.com
SUMMARY:SUPER 8 - INDIE ESPAÑOL (CON BANDA)
DESCRIPTION:SUPER 8 (INDIE ESPAÑOL)\n\n\n\n\nRepaso a los temas más representativos del indie español. Los Planetas\, Vetusta Morla\, Izal\, Lori Meyers\, Sidonie\, Leiva\, Love of Lesbian…
URL:https://ciccotinone.com/event/super-8-indie-espanol-con-banda/
LOCATION:Valencia
CATEGORIES:SUPER 8 - INDIE ESPAÑOL (CON BANDA)
ATTACH;FMTTYPE=image/jpeg:https://ciccotinone.com/wp-content/uploads/2023/11/rumbo144.jpg
END:VEVENT
BEGIN:VEVENT
DTSTART;TZID=Europe/Madrid:20231210T180000
DTEND;TZID=Europe/Madrid:20231210T200000
DTSTAMP:20260422T225258
CREATED:20231115T102929Z
LAST-MODIFIED:20231115T142201Z
UID:2174-1702231200-1702238400@ciccotinone.com
SUMMARY:KARA O KÉ?
DESCRIPTION:Además del espectáculo de música a la carta\, hemos incorporado la opción de Kara-o-ké\, en el cual no solo tocaremos para ti\, sino que podrás subir a cantar con nosotros.\nDedica la canción y demuestra tu amor\, reta a alguien a que suba al escenario o canta solo/a o en grupo la canción que siempre soñaste cantar.\nNota: Lo importante es pasárselo bien…
URL:https://ciccotinone.com/event/kara-o-ke-2/
LOCATION:LA CASA DE LA MAR\, Av. Vicente Blasco Ibáñez Novelista\, 8\, 46120 Alboraya\, Valencia\, Alboraya\, Valencia\, 46120\, España
CATEGORIES:KARA O KÉ?
ATTACH;FMTTYPE=image/jpeg:https://ciccotinone.com/wp-content/uploads/2023/11/286894224_1478922175873851_6321472218186818197_n.jpg
END:VEVENT
BEGIN:VEVENT
DTSTART;TZID=Europe/Madrid:20231215T200000
DTEND;TZID=Europe/Madrid:20231215T220000
DTSTAMP:20260422T225258
CREATED:20231212T073950Z
LAST-MODIFIED:20231212T073950Z
UID:2206-1702670400-1702677600@ciccotinone.com
SUMMARY:Cicco Tiñone - Canciones a la Carta
DESCRIPTION:La Puera verde\,\nC. Maestro Vicente Martínez\, 8\, 16393 Mira\, Cuenca
URL:https://ciccotinone.com/event/cicco-tinone-canciones-a-la-carta-4/
LOCATION:Valencia
ATTACH;FMTTYPE=image/png:https://ciccotinone.com/wp-content/uploads/2023/10/CiccoTinone-3-tt.png
END:VEVENT
BEGIN:VEVENT
DTSTART;TZID=Europe/Madrid:20231216T180000
DTEND;TZID=Europe/Madrid:20231216T200000
DTSTAMP:20260422T225258
CREATED:20231212T074524Z
LAST-MODIFIED:20231212T074524Z
UID:2208-1702749600-1702756800@ciccotinone.com
SUMMARY:Cicco Tiñone - Indie pop 80s y 90s
DESCRIPTION:Indie pop 80s y 90s\nSala Aguardas Motilla\nCtra. la roda 72\, Motilla de Palancar\nCuenca
URL:https://ciccotinone.com/event/cicco-tinone-indie-pop-80s-y-90s/
LOCATION:Valencia
ATTACH;FMTTYPE=image/jpeg:https://ciccotinone.com/wp-content/uploads/2021/06/WhatsApp-Image-2021-06-25-at-08.23.56.jpeg
END:VEVENT
BEGIN:VEVENT
DTSTART;TZID=Europe/Madrid:20231222T200000
DTEND;TZID=Europe/Madrid:20231222T220000
DTSTAMP:20260422T225258
CREATED:20231115T103717Z
LAST-MODIFIED:20231212T080017Z
UID:2182-1703275200-1703282400@ciccotinone.com
SUMMARY:SUPER 8 - INDIE ESPAÑOL
DESCRIPTION:SUPER 8 (INDIE ESPAÑOL)\n\n\n\n\nRepaso a los temas más representativos del indie español. Los Planetas\, Vetusta Morla\, Izal\, Lori Meyers\, Sidonie\,Leiva\, Love of Lesbian…
URL:https://ciccotinone.com/event/super-8-indie-espanol/
LOCATION:LA CASA DE LA MAR\, Av. Vicente Blasco Ibáñez Novelista\, 8\, 46120 Alboraya\, Valencia\, Alboraya\, Valencia\, 46120\, España
CATEGORIES:SUPER 8 - INDIE ESPAÑOL
ATTACH;FMTTYPE=image/jpeg:https://ciccotinone.com/wp-content/uploads/2023/11/286894224_1478922175873851_6321472218186818197_n.jpg
END:VEVENT
BEGIN:VEVENT
DTSTART;TZID=Europe/Madrid:20231223T180000
DTEND;TZID=Europe/Madrid:20231223T200000
DTSTAMP:20260422T225258
CREATED:20231212T074818Z
LAST-MODIFIED:20231212T074818Z
UID:2210-1703354400-1703361600@ciccotinone.com
SUMMARY:Cicco Tiñone - Indie pop 80s y 90s
DESCRIPTION:Indie pop 80s y 90s\nSala Aguardas Motilla\nCtra. la roda 72\, Motilla de Palancar\nCuenca
URL:https://ciccotinone.com/event/cicco-tinone-indie-pop-80s-y-90s-2/
LOCATION:Valencia
ATTACH;FMTTYPE=image/jpeg:https://ciccotinone.com/wp-content/uploads/2021/06/WhatsApp-Image-2021-06-25-at-08.23.56.jpeg
END:VEVENT
BEGIN:VEVENT
DTSTART;TZID=Europe/Madrid:20231224T130000
DTEND;TZID=Europe/Madrid:20231224T150000
DTSTAMP:20260422T225258
CREATED:20231212T075659Z
LAST-MODIFIED:20231212T075659Z
UID:2213-1703422800-1703430000@ciccotinone.com
SUMMARY:Cicco Tiñone - Solo Set
DESCRIPTION:Canciones a la Carta\,\nBarbas\nPlaza Carbó 7\, Alzira
URL:https://ciccotinone.com/event/cicco-tinone-solo-set/
LOCATION:Valencia
ATTACH;FMTTYPE=image/jpeg:https://ciccotinone.com/wp-content/uploads/2021/06/WhatsApp-Image-2021-06-25-at-08.23.56.jpeg
END:VEVENT
END:VCALENDAR