BEGIN:VCALENDAR
VERSION:2.0
PRODID:-//cicco tinone - ECPv6.2.7//NONSGML v1.0//EN
CALSCALE:GREGORIAN
METHOD:PUBLISH
X-ORIGINAL-URL:https://ciccotinone.com
X-WR-CALDESC:Eventos para cicco tinone
REFRESH-INTERVAL;VALUE=DURATION:PT1H
X-Robots-Tag:noindex
X-PUBLISHED-TTL:PT1H
BEGIN:VTIMEZONE
TZID:Europe/Madrid
BEGIN:DAYLIGHT
TZOFFSETFROM:+0100
TZOFFSETTO:+0200
TZNAME:CEST
DTSTART:20240331T010000
END:DAYLIGHT
BEGIN:STANDARD
TZOFFSETFROM:+0200
TZOFFSETTO:+0100
TZNAME:CET
DTSTART:20241027T010000
END:STANDARD
END:VTIMEZONE
BEGIN:VEVENT
DTSTART;TZID=Europe/Madrid:20240104T190000
DTEND;TZID=Europe/Madrid:20240104T220000
DTSTAMP:20260423T002613
CREATED:20240104T112221Z
LAST-MODIFIED:20240104T112221Z
UID:2215-1704394800-1704405600@ciccotinone.com
SUMMARY:Tiñone Benéfico
DESCRIPTION:TE INVITAMOS A UNA FIESTA SOLIDARIA A BENEFICIO DE LAS MUJERES DE LA INDIA RURAL\, A TRAVÉS DE LA FUNDACIÓN VICENTE FERRER\n💜 Junto con la solidaridad de la Casa de la Mar\, Cicco Tiñone\, DJ Hermes y todos los asistentes daremos la oportunidad de tener una vida mejor a mujeres del Distrito de Anantapur a través del acceso a educación\, sanidad\, y oportunidades económicas con el fin de romper con la pobreza y la discriminación.\n🕺🏽19h Sesión de dj con HERMES M83 DJ.\n🎤 20h Karaoke con Cicco Tiñone.\n🎁 21 h Sorteo\n¡Vente con tus amistades y familiares a compartir música en directo\, gastronomía y buena cerveza\, con un fin solidario!\n🎟️ ENTRADAS ANTICIPADAS A 7€ (menores de 12 años gratis):\nhttps://ticketere.com/evento/karaoke-solidario-a-beneficio-de-fundacion-vicente-ferrer-hermes-m83-dj/
URL:https://ciccotinone.com/event/tinone-benefico/
LOCATION:LA CASA DE LA MAR\, Av. Vicente Blasco Ibáñez Novelista\, 8\, 46120 Alboraya\, Valencia\, Alboraya\, Valencia\, 46120\, España
ATTACH;FMTTYPE=image/jpeg:https://ciccotinone.com/wp-content/uploads/2023/11/286894224_1478922175873851_6321472218186818197_n.jpg
END:VEVENT
END:VCALENDAR